BEGIN:VCALENDAR
VERSION:2.0
PRODID:-//OYE COMO VA ~LIVE MUSIC &amp; DINING in ONOMICHI~ - ECPv6.15.11//NONSGML v1.0//EN
CALSCALE:GREGORIAN
METHOD:PUBLISH
X-WR-CALNAME:OYE COMO VA ~LIVE MUSIC &amp; DINING in ONOMICHI~
X-ORIGINAL-URL:https://oye-como-va.com
X-WR-CALDESC:OYE COMO VA ~LIVE MUSIC &amp; DINING in ONOMICHI~ のイベント
REFRESH-INTERVAL;VALUE=DURATION:PT1H
X-Robots-Tag:noindex
X-PUBLISHED-TTL:PT1H
BEGIN:VTIMEZONE
TZID:Asia/Tokyo
BEGIN:STANDARD
TZOFFSETFROM:+0900
TZOFFSETTO:+0900
TZNAME:JST
DTSTART:20230101T000000
END:STANDARD
END:VTIMEZONE
BEGIN:VEVENT
DTSTART;TZID=Asia/Tokyo:20241110T180000
DTEND;TZID=Asia/Tokyo:20241110T233000
DTSTAMP:20260426T090932
CREATED:20241110T024931Z
LAST-MODIFIED:20241110T024931Z
UID:1886-1731261600-1731281400@oye-como-va.com
SUMMARY:休日10，11，12，13日
DESCRIPTION:休日\n11月10日（日）\n　　11日（月）\n　　12日（火）\n　　13日（水）
URL:https://oye-como-va.com/event/%e4%bc%91%e6%97%a510%ef%bc%8c11%ef%bc%8c12%ef%bc%8c13%e6%97%a5/
LOCATION:Oye como va\, 広島県尾道市久保１-５-１８
END:VEVENT
BEGIN:VEVENT
DTSTART;TZID=Asia/Tokyo:20241109T183000
DTEND;TZID=Asia/Tokyo:20241109T203000
DTSTAMP:20260426T090932
CREATED:20240926T011021Z
LAST-MODIFIED:20241015T060956Z
UID:1810-1731177000-1731184200@oye-como-va.com
SUMMARY:THE JAWALK 杉田 裕SOLO LIVE TOUR2024
DESCRIPTION:JAWALKのヴォーカル＆キーボド\n杉田 裕SOLO LIVE\n~Long autumu night~\nOpen１８：００\nSatrt１８：３０\n予約￥５０００\n当日￥５５００\nいずれも要ドリンクオーダー\n予約受付中！
URL:https://oye-como-va.com/event/the-jawalk-%e6%9d%89%e7%94%b0-%e8%a3%95%e3%82%bd%e3%83%ad%e3%80%80/
LOCATION:Oye como va\, 広島県尾道市久保１-５-１８
ATTACH;FMTTYPE=image/png:https://oye-como-va.com/wp-content/uploads/2024/09/杉田裕JWALK.png
END:VEVENT
BEGIN:VEVENT
DTSTART;TZID=Asia/Tokyo:20241108T080000
DTEND;TZID=Asia/Tokyo:20241108T170000
DTSTAMP:20260426T090932
CREATED:20240926T004427Z
LAST-MODIFIED:20240926T004427Z
UID:1806-1731052800-1731085200@oye-como-va.com
SUMMARY:毎月第2金曜日杉川JazzGroup＆Session
DESCRIPTION:杉川JazzGroup＆Session\n杉川伸二（Gt)　前原潔（Ba)　種元大三（Dr)\nOpen１８：００　Start２０：００\n￥１０００　要ドリンクオーダー
URL:https://oye-como-va.com/event/%e6%af%8e%e6%9c%88%e7%ac%ac2%e9%87%91%e6%9b%9c%e6%97%a5%e6%9d%89%e5%b7%9djazzgroup%ef%bc%86session-5/
LOCATION:Oye como va\, 広島県尾道市久保１-５-１８
ATTACH;FMTTYPE=image/jpeg:https://oye-como-va.com/wp-content/uploads/2024/07/杉川伸二.jpg
END:VEVENT
BEGIN:VEVENT
DTSTART;TZID=Asia/Tokyo:20241105T193000
DTEND;TZID=Asia/Tokyo:20241105T213000
DTSTAMP:20260426T090932
CREATED:20240926T005055Z
LAST-MODIFIED:20240926T012330Z
UID:1808-1730835000-1730842200@oye-como-va.com
SUMMARY:Kudochewと愉快な仲間たち2024
DESCRIPTION:Kudo chew\n北海道出身シンガーソングライター\nふきのとう「白い冬」作詞\n愉快な仲間たち募集中！（各２０分×３組）\nOpen１９：３０　Start２０：００\n￥１５００　1Drink付+投げ銭！
URL:https://oye-como-va.com/event/%e5%b7%a5%e8%97%a4-%e5%bf%a0/
LOCATION:Oye como va\, 広島県尾道市久保１-５-１８
ATTACH;FMTTYPE=image/jpeg:https://oye-como-va.com/wp-content/uploads/2023/08/maxresdefault.jpg
END:VEVENT
BEGIN:VEVENT
DTSTART;TZID=Asia/Tokyo:20241102T190000
DTEND;TZID=Asia/Tokyo:20241102T233000
DTSTAMP:20260426T090932
CREATED:20240927T024636Z
LAST-MODIFIED:20240927T024636Z
UID:1818-1730574000-1730590200@oye-como-va.com
SUMMARY:The Liveオープンマイク！
DESCRIPTION:土曜日のオープンマイク！\nOpen１８：００　Start１９：００\n￥１５００　おつまみ＆１Drink付
URL:https://oye-como-va.com/event/the-live%e3%82%aa%e3%83%bc%e3%83%97%e3%83%b3%e3%83%9e%e3%82%a4%e3%82%af%ef%bc%81-8/
LOCATION:Oye como va\, 広島県尾道市久保１-５-１８
ATTACH;FMTTYPE=image/jpeg:https://oye-como-va.com/wp-content/uploads/2023/12/oyecomova.jpg
END:VEVENT
BEGIN:VEVENT
DTSTART;TZID=Asia/Tokyo:20241101T193000
DTEND;TZID=Asia/Tokyo:20241101T220000
DTSTAMP:20260426T090932
CREATED:20240731T023319Z
LAST-MODIFIED:20240731T023319Z
UID:1695-1730489400-1730498400@oye-como-va.com
SUMMARY:新井武士アコースティック弾き語りLIVE!
DESCRIPTION:新井武士（Vo.Ag)\n元ダウン・タウン・ブギウギ・バンドのベーシスト\n現在、ブルースバンド、R&Bバンドに参加するかたわら若手ベーシストの育成、\n作詞作曲活動そして各地のライブハウスでギターを手にソロ活動。\nサポートギター：石渡雄二（Vo.Ag)\n１９７０年代頃の研ナオコ、所ジョージ等のギタリストとして新井武士さんと活躍！\nOpen１９：００　Start１９：３０\n￥３０００　要ドリンクオーダー
URL:https://oye-como-va.com/event/%e6%96%b0%e4%ba%95%e6%ad%a6%e5%a3%ab%e3%82%a2%e3%82%b3%e3%83%bc%e3%82%b9%e3%83%86%e3%82%a3%e3%83%83%e3%82%af%e5%bc%be%e3%81%8d%e8%aa%9e%e3%82%8alive/
LOCATION:Oye como va\, 広島県尾道市久保１-５-１８
ATTACH;FMTTYPE=image/jpeg:https://oye-como-va.com/wp-content/uploads/2024/07/１新井武士.jpg
END:VEVENT
BEGIN:VEVENT
DTSTART;TZID=Asia/Tokyo:20241028T180000
DTEND;TZID=Asia/Tokyo:20241028T233000
DTSTAMP:20260426T090932
CREATED:20240923T015201Z
LAST-MODIFIED:20240923T015201Z
UID:1796-1730138400-1730158200@oye-como-va.com
SUMMARY:店休10月28日（月）
DESCRIPTION:お休み
URL:https://oye-como-va.com/event/%e5%ba%97%e4%bc%9110%e6%9c%8828%e6%97%a5%ef%bc%88%e6%9c%88%ef%bc%89/
LOCATION:Oye como va\, 広島県尾道市久保１-５-１８
END:VEVENT
BEGIN:VEVENT
DTSTART;TZID=Asia/Tokyo:20241027T160000
DTEND;TZID=Asia/Tokyo:20241027T233000
DTSTAMP:20260426T090932
CREATED:20240911T010601Z
LAST-MODIFIED:20240912T010251Z
UID:1774-1730044800-1730071800@oye-como-va.com
SUMMARY:オエコモ19th Anniversary②　10月27日（日）
DESCRIPTION:出演、演奏３０分　１５分インターバル\n１、一発＆ダイナマイトホラーズ　１６：００～\n２、樋口雅彦（Vo.Ag)　１６：４５～\n３、Sally&Tommy　１７：３０～\n４、The Dirty Dolls　１８：１５～\n５、石渡雄二（Vo.Ag)　１９：００～\n６、みっこ（Vo\,)＆Friends　１９：４５～\n７、道　２０：３０～\nOpen１５：００　Start１６：００\n￥１５００　１Drink付
URL:https://oye-como-va.com/event/%e3%82%aa%e3%82%a8%e3%82%b3%e3%83%a219th-anniversary%e2%91%a1%e3%80%8010%e6%9c%8827%e6%97%a5%ef%bc%88%e6%97%a5%ef%bc%89/
LOCATION:Oye como va\, 広島県尾道市久保１-５-１８
ATTACH;FMTTYPE=image/jpeg:https://oye-como-va.com/wp-content/uploads/2023/08/unnamed-scaled.jpg
END:VEVENT
BEGIN:VEVENT
DTSTART;TZID=Asia/Tokyo:20241026T170000
DTEND;TZID=Asia/Tokyo:20241026T233000
DTSTAMP:20260426T090932
CREATED:20240818T014726Z
LAST-MODIFIED:20241002T050036Z
UID:1735-1729962000-1729985400@oye-como-va.com
SUMMARY:オエコモ19th Anniversary①10月26日（土）
DESCRIPTION:オエコモヴァは今年１０月２９日で１９周年を迎えることになります。\n今後とも宜しくお願いいたします。\n出演、３０分演奏　１５分インターバル\n１．スイートノイズ　１７：００～\n２．CS Groove　１７：４５～\n３．Re:frain     １８：３０～\n４．Amica    １９：１５～\n５．犬丸幸治（Vo.Ag)＆綱永真純（Pf)　２０：００～\n６．Linano Quattro　２０：４５～\nOpen１６：００　Start１７：００\n￥１５００　１Drink付\n 
URL:https://oye-como-va.com/event/%e3%82%aa%e3%82%a8%e3%82%b3%e3%83%a219th-anniversary%e3%80%8010%e6%9c%8826%e3%80%8127%e6%97%a5/
LOCATION:Oye como va\, 広島県尾道市久保１-５-１８
ATTACH;FMTTYPE=image/jpeg:https://oye-como-va.com/wp-content/uploads/2023/08/DSCF1914.jpg
END:VEVENT
BEGIN:VEVENT
DTSTART;TZID=Asia/Tokyo:20241021T180000
DTEND;TZID=Asia/Tokyo:20241021T233000
DTSTAMP:20260426T090932
CREATED:20240923T015057Z
LAST-MODIFIED:20240923T140321Z
UID:1794-1729533600-1729553400@oye-como-va.com
SUMMARY:店休10月21（月）
DESCRIPTION:お休み
URL:https://oye-como-va.com/event/%e5%ba%97%e4%bc%9110%e6%9c%8820%ef%bc%88%e6%97%a5%ef%bc%8921%ef%bc%88%e6%9c%88%ef%bc%89/
LOCATION:Oye como va\, 広島県尾道市久保１-５-１８
END:VEVENT
BEGIN:VEVENT
DTSTART;TZID=Asia/Tokyo:20241020T190000
DTEND;TZID=Asia/Tokyo:20241020T210000
DTSTAMP:20260426T090932
CREATED:20240923T140545Z
LAST-MODIFIED:20240923T142156Z
UID:1799-1729450800-1729458000@oye-como-va.com
SUMMARY:『笑門来福～お久しぶりです2024広島編～』
DESCRIPTION:門松良祐（Vo.Ag)\n都竹宏樹（Vo.Ag)\n\nOpen１８：００　Start１９：００\n前売り￥３０００　当日￥３５００　いずれも要ドリンクオーダー
URL:https://oye-como-va.com/event/%e9%96%80%e6%9d%be%e8%89%af%e7%a5%90%ef%bc%86%e9%83%bd%e7%ab%b9%e5%ae%8f%e6%a8%b9/
LOCATION:Oye como va\, 広島県尾道市久保１-５-１８
END:VEVENT
BEGIN:VEVENT
DTSTART;TZID=Asia/Tokyo:20241019T193000
DTEND;TZID=Asia/Tokyo:20241019T220000
DTSTAMP:20260426T090932
CREATED:20240617T011300Z
LAST-MODIFIED:20240617T011300Z
UID:1633-1729366200-1729375200@oye-como-va.com
SUMMARY:PTB総会2024
DESCRIPTION:尾道の学校PTAから結成されたバンド！\nPTB\nポップスコピーバンド\nOpen１８：００　Start１９：３０\n￥２０００　要ドリンクオーダー\n５０名限定、チケット販売８月１日\n只今予約受付中！主催者へのSNS等でお願い致します。
URL:https://oye-como-va.com/event/ptb%e7%b7%8f%e4%bc%9a2024/
LOCATION:Oye como va\, 広島県尾道市久保１-５-１８
ATTACH;FMTTYPE=image/jpeg:https://oye-como-va.com/wp-content/uploads/2024/06/PTB.jpg
END:VEVENT
BEGIN:VEVENT
DTSTART;TZID=Asia/Tokyo:20241014T193000
DTEND;TZID=Asia/Tokyo:20241014T213000
DTSTAMP:20260426T090932
CREATED:20240816T025638Z
LAST-MODIFIED:20240816T025638Z
UID:1729-1728934200-1728941400@oye-como-va.com
SUMMARY:SSCOMPANY　広島公演
DESCRIPTION:SSCOMPANY\n沖縄唯一のGSバンド。タイガース・スパイダース・ブルーコメッツなどの\n往年の名曲や、オリジナル曲の聴かせます！\n１９９８年NHK主催「熱血おやじバトル」でグランプリを受賞。\nOpen１９：００　Start１９：３０\n￥４０００　要ドリンクオーダー
URL:https://oye-como-va.com/event/sscompany%e3%80%80%e5%ba%83%e5%b3%b6%e5%85%ac%e6%bc%94/
LOCATION:Oye como va\, 広島県尾道市久保１-５-１８
ATTACH;FMTTYPE=image/jpeg:https://oye-como-va.com/wp-content/uploads/2024/08/ss.jpg
END:VEVENT
BEGIN:VEVENT
DTSTART;TZID=Asia/Tokyo:20241013T180000
DTEND;TZID=Asia/Tokyo:20241013T233000
DTSTAMP:20260426T090932
CREATED:20240923T014848Z
LAST-MODIFIED:20240923T014848Z
UID:1792-1728842400-1728862200@oye-como-va.com
SUMMARY:店休10月13日（日）
DESCRIPTION:お休み
URL:https://oye-como-va.com/event/%e5%ba%97%e4%bc%9110%e6%9c%8813%e6%97%a5%ef%bc%88%e6%97%a5%ef%bc%89/
LOCATION:Oye como va\, 広島県尾道市久保１-５-１８
END:VEVENT
BEGIN:VEVENT
DTSTART;TZID=Asia/Tokyo:20241012T183000
DTEND;TZID=Asia/Tokyo:20241012T220000
DTSTAMP:20260426T090932
CREATED:20240828T005353Z
LAST-MODIFIED:20240920T021145Z
UID:1748-1728757800-1728770400@oye-como-va.com
SUMMARY:Let’s get excited!
DESCRIPTION:出演者\n・納家昌志＆あだちゆみ\n・槇奥慎一郎\n・Ref:rain\n・劇団はやし\n・Sally(納家昌志、あだちゆみ、サポート）\nOpen１８：００　Start１８：３０\n￥１５００　１Drink付
URL:https://oye-como-va.com/event/sally%e4%bc%81%e7%94%bb%e3%83%a9%e3%82%a4%e3%83%96%ef%bc%81/
LOCATION:Oye como va\, 広島県尾道市久保１-５-１８
ATTACH;FMTTYPE=image/jpeg:https://oye-como-va.com/wp-content/uploads/2024/08/sally3.jpg
END:VEVENT
BEGIN:VEVENT
DTSTART;TZID=Asia/Tokyo:20241011T200000
DTEND;TZID=Asia/Tokyo:20241011T220000
DTSTAMP:20260426T090932
CREATED:20240816T025028Z
LAST-MODIFIED:20240816T025028Z
UID:1727-1728676800-1728684000@oye-como-va.com
SUMMARY:第2金曜日杉川JazzGroup＆Session
DESCRIPTION:杉川JazzGroup＆Session\n杉川伸二（Gt)　前原潔（Ba)　種元大三（Dr)\nOpen１８：００　Start２０：００\n￥１０００　要ドリンクオーダー
URL:https://oye-como-va.com/event/%e7%ac%ac2%e9%87%91%e6%9b%9c%e6%97%a5%e6%9d%89%e5%b7%9djazzgroup%ef%bc%86session-4/
LOCATION:Oye como va\, 広島県尾道市久保１-５-１８
ATTACH;FMTTYPE=image/jpeg:https://oye-como-va.com/wp-content/uploads/2024/07/杉川伸二.jpg
END:VEVENT
BEGIN:VEVENT
DTSTART;TZID=Asia/Tokyo:20241007T180000
DTEND;TZID=Asia/Tokyo:20241007T233000
DTSTAMP:20260426T090932
CREATED:20240923T014735Z
LAST-MODIFIED:20240923T014735Z
UID:1790-1728324000-1728343800@oye-como-va.com
SUMMARY:店休10月7日（月）
DESCRIPTION:お休み
URL:https://oye-como-va.com/event/%e5%ba%97%e4%bc%9110%e6%9c%887%e6%97%a5%ef%bc%88%e6%9c%88%ef%bc%89/
LOCATION:Oye como va\, 広島県尾道市久保１-５-１８
END:VEVENT
BEGIN:VEVENT
DTSTART;TZID=Asia/Tokyo:20241006T180000
DTEND;TZID=Asia/Tokyo:20241006T213000
DTSTAMP:20260426T090932
CREATED:20240904T061740Z
LAST-MODIFIED:20240904T061740Z
UID:1769-1728237600-1728250200@oye-como-va.com
SUMMARY:Very berry ROCK Vol.1
DESCRIPTION:出演者\n・IBUSHI-GIN\n・The Iostnumbers\n・STRAWBERRY\n・ともちゃん紅一点だから＆ヴィ～ンズ\nOpen１７：３０　Start１８：００\n￥１５００　１Drink付
URL:https://oye-como-va.com/event/very-berry-rock-vol-1/
LOCATION:Oye como va\, 広島県尾道市久保１-５-１８
ATTACH;FMTTYPE=image/jpeg:https://oye-como-va.com/wp-content/uploads/2024/09/ともちゃん.jpg
END:VEVENT
BEGIN:VEVENT
DTSTART;TZID=Asia/Tokyo:20241005T193000
DTEND;TZID=Asia/Tokyo:20241005T223000
DTSTAMP:20260426T090932
CREATED:20240816T024846Z
LAST-MODIFIED:20240926T003647Z
UID:1725-1728156600-1728167400@oye-como-va.com
SUMMARY:SUNSET BOULEVARD
DESCRIPTION:サンセット ブールバード\nエリック・クラプトン　トリビュートバンド！\n￥２０００　要ドリンクオーダー\nOpen１７：００　Start１９：３０
URL:https://oye-como-va.com/event/sunset-boulevard/
LOCATION:Oye como va\, 広島県尾道市久保１-５-１８
ATTACH;FMTTYPE=image/jpeg:https://oye-como-va.com/wp-content/uploads/2024/08/sun3.jpg
END:VEVENT
BEGIN:VEVENT
DTSTART;TZID=Asia/Tokyo:20240929T180000
DTEND;TZID=Asia/Tokyo:20240929T233000
DTSTAMP:20260426T090932
CREATED:20240829T023715Z
LAST-MODIFIED:20240829T023715Z
UID:1762-1727632800-1727652600@oye-como-va.com
SUMMARY:9月29日（日）店休
DESCRIPTION:店休
URL:https://oye-como-va.com/event/9%e6%9c%8829%e6%97%a5%ef%bc%88%e6%97%a5%ef%bc%89%e5%ba%97%e4%bc%91/
LOCATION:Oye como va\, 広島県尾道市久保１-５-１８
END:VEVENT
BEGIN:VEVENT
DTSTART;TZID=Asia/Tokyo:20240928T190000
DTEND;TZID=Asia/Tokyo:20240928T233000
DTSTAMP:20260426T090932
CREATED:20240802T025904Z
LAST-MODIFIED:20240802T025904Z
UID:1717-1727550000-1727566200@oye-como-va.com
SUMMARY:The Liveオープンマイク！
DESCRIPTION:土曜日のオープンマイク！\nOpen１８：００　Start１９：００\n￥１５００　おつまみ＆１Drink付
URL:https://oye-como-va.com/event/the-live%e3%82%aa%e3%83%bc%e3%83%97%e3%83%b3%e3%83%9e%e3%82%a4%e3%82%af%ef%bc%81-7/
LOCATION:Oye como va\, 広島県尾道市久保１-５-１８
ATTACH;FMTTYPE=image/jpeg:https://oye-como-va.com/wp-content/uploads/2023/08/unnamed-scaled.jpg
END:VEVENT
BEGIN:VEVENT
DTSTART;TZID=Asia/Tokyo:20240927T183000
DTEND;TZID=Asia/Tokyo:20240927T203000
DTSTAMP:20260426T090932
CREATED:20240610T000244Z
LAST-MODIFIED:20240610T000244Z
UID:1618-1727461800-1727469000@oye-como-va.com
SUMMARY:影山ヒロノブ2024年ソロアコギの旅９月編
DESCRIPTION:影山ヒロノブ\n1977年ジャパニーズロック史において輝きを放つバンド「LAZY（レイジー）」のボーカル”ミッシェル”としてデビュー。「赤頭巾ちゃんご用心」「DREAMER（ドリーマー）」などの名曲を残す。1985年日本コロムビアに移籍後にアニメ・特撮ソングに出会い、「電撃戦隊チェンジマン」「宇宙船サジタリウス」と後世に残る名番組の主題歌を担当した。その後も数々のアニメソングを歌い、その中でもフジテレビ系アニメ「ドラゴンボールZ」主題歌「CHA-LA HEAD-CHA-LA（チャラヘッチャラ）」やテレビ朝日系アニメ「聖闘士星矢（セイントセイヤ）」主題歌「ソルジャードリーム～聖闘士神話」で、日本のアニソン界を代表する地位を確立した。（「CHA-LA HEAD-CHA-LA（チャラヘッチャラ）」はシングル、アルバムなどを併せた累計売り上げ130万枚を超すヒットとなった）現在では作詞、作曲、編曲、プロデュースをこなす「アニソンアーティスト」として数々のプロジェクトに参加。 \nOpen１８：００　Start１８：３０\n前売り￥４４００　要ドリンクオーダー\nKAGEYAMA HIRONOBU OFFICIAL SITE｜影山ヒロノブ オフィシャルサイト – 日本のアニソン界を牽引するアーティスト（JAM Projectリーダー）影山ヒロノブのオフィシャルサイト (airblanca.com)
URL:https://oye-como-va.com/event/%e5%bd%b1%e5%b1%b1%e3%83%92%e3%83%ad%e3%83%8e%e3%83%962024%e5%b9%b4%e3%82%bd%e3%83%ad%e3%82%a2%e3%82%b3%e3%82%ae%e3%81%ae%e6%97%85%ef%bc%99%e6%9c%88%e7%b7%a8/
LOCATION:Oye como va\, 広島県尾道市久保１-５-１８
ATTACH;FMTTYPE=image/jpeg:https://oye-como-va.com/wp-content/uploads/2024/06/profile-1.jpg
END:VEVENT
BEGIN:VEVENT
DTSTART;TZID=Asia/Tokyo:20240926T080000
DTEND;TZID=Asia/Tokyo:20240926T170000
DTSTAMP:20260426T090932
CREATED:20240802T025043Z
LAST-MODIFIED:20240802T025043Z
UID:1710-1727337600-1727370000@oye-como-va.com
SUMMARY:モク☆アコDAYオープンマイク！
DESCRIPTION:木曜日オープンマイク！\nアコースティック弾き語り\nOpen１８：００　Start１９：００\n￥３００おつまみ＋ドリンクオーダー\n出演者別途５００円
URL:https://oye-como-va.com/event/%e3%83%a2%e3%82%af%e2%98%86%e3%82%a2%e3%82%b3day%e3%82%aa%e3%83%bc%e3%83%97%e3%83%b3%e3%83%9e%e3%82%a4%e3%82%af%ef%bc%81-22/
LOCATION:Oye como va\, 広島県尾道市久保１-５-１８
ATTACH;FMTTYPE=image/jpeg:https://oye-como-va.com/wp-content/uploads/2023/10/モクアコ.jpg
END:VEVENT
BEGIN:VEVENT
DTSTART;TZID=Asia/Tokyo:20240922T180000
DTEND;TZID=Asia/Tokyo:20240922T233000
DTSTAMP:20260426T090932
CREATED:20240829T023614Z
LAST-MODIFIED:20240829T023614Z
UID:1760-1727028000-1727047800@oye-como-va.com
SUMMARY:9月22日（日）23日（月）店休
DESCRIPTION:店休
URL:https://oye-como-va.com/event/9%e6%9c%8822%e6%97%a5%ef%bc%88%e6%97%a5%ef%bc%8923%e6%97%a5%ef%bc%88%e6%9c%88%ef%bc%89%e5%ba%97%e4%bc%91/
LOCATION:Oye como va\, 広島県尾道市久保１-５-１８
END:VEVENT
BEGIN:VEVENT
DTSTART;TZID=Asia/Tokyo:20240921T190000
DTEND;TZID=Asia/Tokyo:20240921T233000
DTSTAMP:20260426T090932
CREATED:20240802T025751Z
LAST-MODIFIED:20240802T025751Z
UID:1715-1726945200-1726961400@oye-como-va.com
SUMMARY:The Liveオープンマイク！
DESCRIPTION:土曜日のオープンマイク！\nOpen１８：００　Start１９：００\n￥１５００　おつまみ＆１Drink付
URL:https://oye-como-va.com/event/the-live%e3%82%aa%e3%83%bc%e3%83%97%e3%83%b3%e3%83%9e%e3%82%a4%e3%82%af%ef%bc%81-6/
LOCATION:Oye como va\, 広島県尾道市久保１-５-１８
ATTACH;FMTTYPE=image/jpeg:https://oye-como-va.com/wp-content/uploads/2024/02/open.jpg
END:VEVENT
BEGIN:VEVENT
DTSTART;TZID=Asia/Tokyo:20240919T190000
DTEND;TZID=Asia/Tokyo:20240919T233000
DTSTAMP:20260426T090932
CREATED:20240802T024644Z
LAST-MODIFIED:20240802T024951Z
UID:1706-1726772400-1726788600@oye-como-va.com
SUMMARY:モク☆アコDAYオープンマイク！
DESCRIPTION:木曜日オープンマイク！\nアコースティック弾き語り\nOpen１８：００　Start１９：００\n￥３００おつまみ＋ドリンクオーダー\n出演者別途５００円
URL:https://oye-como-va.com/event/%e3%83%a2%e3%82%af%e2%98%86%e3%82%a2%e3%82%b3day%e3%82%aa%e3%83%bc%e3%83%97%e3%83%b3%e3%83%9e%e3%82%a4%e3%82%af%ef%bc%81-20/
LOCATION:Oye como va\, 広島県尾道市久保１-５-１８
ATTACH;FMTTYPE=image/jpeg:https://oye-como-va.com/wp-content/uploads/2023/10/モクアコ.jpg
END:VEVENT
BEGIN:VEVENT
DTSTART;TZID=Asia/Tokyo:20240915T180000
DTEND;TZID=Asia/Tokyo:20240915T233000
DTSTAMP:20260426T090932
CREATED:20240829T023500Z
LAST-MODIFIED:20240912T005518Z
UID:1758-1726423200-1726443000@oye-como-va.com
SUMMARY:9月15日（日)　16日(月）店休
DESCRIPTION:15日店休 \n16日店休
URL:https://oye-como-va.com/event/9%e6%9c%8815%e6%97%a5%ef%bc%88%e6%97%a5%ef%bc%89%e5%ba%97%e4%bc%91%e3%80%8016%e6%97%a5%e7%a5%9d%e6%97%a5%e3%81%af%e5%96%b6%e6%a5%ad%e3%82%aa%e3%83%bc%e3%83%97%e3%83%b3%e3%83%9e%e3%82%a4%e3%82%af/
LOCATION:Oye como va\, 広島県尾道市久保１-５-１８
END:VEVENT
BEGIN:VEVENT
DTSTART;TZID=Asia/Tokyo:20240914T193000
DTEND;TZID=Asia/Tokyo:20240914T220000
DTSTAMP:20260426T090932
CREATED:20240802T025500Z
LAST-MODIFIED:20240912T005842Z
UID:1712-1726342200-1726351200@oye-como-va.com
SUMMARY:みーくんのクレヨン With Theバンド マンション
DESCRIPTION:　インストルメンタルなバンド\n　　みーくんのクレヨン\n　　　　With\n　　The バンド マンション\nOpen１９：００　Start１９：３０\n￥１５００　１Drink付
URL:https://oye-como-va.com/event/%e3%81%bf%e3%83%bc%e3%81%8f%e3%82%93%e3%81%ae%e3%82%af%e3%83%ac%e3%83%a8%e3%83%b3/
LOCATION:Oye como va\, 広島県尾道市久保１-５-１８
END:VEVENT
BEGIN:VEVENT
DTSTART;TZID=Asia/Tokyo:20240913T200000
DTEND;TZID=Asia/Tokyo:20240913T220000
DTSTAMP:20260426T090932
CREATED:20240802T024059Z
LAST-MODIFIED:20240821T022520Z
UID:1700-1726257600-1726264800@oye-como-va.com
SUMMARY:第2金曜日杉川JazzGroup＆Session
DESCRIPTION:杉川JazzGroup＆Session\n杉川伸二（Gt)　前原潔（Ba)　種元大三（Dr)\nOpen１８：００　Start２０：００\n￥１０００　要ドリンクオーダー
URL:https://oye-como-va.com/event/%e7%ac%ac2%e9%87%91%e6%9b%9c%e6%97%a5%e6%9d%89%e5%b7%9djazzgroup%ef%bc%86session-3/
LOCATION:Oye como va\, 広島県尾道市久保１-５-１８
ATTACH;FMTTYPE=image/jpeg:https://oye-como-va.com/wp-content/uploads/2024/07/杉川伸二.jpg
END:VEVENT
BEGIN:VEVENT
DTSTART;TZID=Asia/Tokyo:20240912T190000
DTEND;TZID=Asia/Tokyo:20240912T233000
DTSTAMP:20260426T090932
CREATED:20240802T024509Z
LAST-MODIFIED:20240802T024901Z
UID:1704-1726167600-1726183800@oye-como-va.com
SUMMARY:モク☆アコDAYオープンマイク！
DESCRIPTION:木曜日オープンマイク！\nアコースティック弾き語り\nOpen１８：００　Start１９：００\n￥３００おつまみ＋ドリンクオーダー\n出演者別途５００円
URL:https://oye-como-va.com/event/%e3%83%a2%e3%82%af%e2%98%86%e3%82%a2%e3%82%b3day%e3%82%aa%e3%83%bc%e3%83%97%e3%83%b3%e3%83%9e%e3%82%a4%e3%82%af%ef%bc%81-19/
LOCATION:Oye como va\, 広島県尾道市久保１-５-１８
ATTACH;FMTTYPE=image/jpeg:https://oye-como-va.com/wp-content/uploads/2023/10/モクアコ.jpg
END:VEVENT
END:VCALENDAR