BEGIN:VCALENDAR
VERSION:2.0
PRODID:-//OYE COMO VA ~LIVE MUSIC &amp; DINING in ONOMICHI~ - ECPv6.15.11//NONSGML v1.0//EN
CALSCALE:GREGORIAN
METHOD:PUBLISH
X-WR-CALNAME:OYE COMO VA ~LIVE MUSIC &amp; DINING in ONOMICHI~
X-ORIGINAL-URL:https://oye-como-va.com
X-WR-CALDESC:OYE COMO VA ~LIVE MUSIC &amp; DINING in ONOMICHI~ のイベント
REFRESH-INTERVAL;VALUE=DURATION:PT1H
X-Robots-Tag:noindex
X-PUBLISHED-TTL:PT1H
BEGIN:VTIMEZONE
TZID:Asia/Tokyo
BEGIN:STANDARD
TZOFFSETFROM:+0900
TZOFFSETTO:+0900
TZNAME:JST
DTSTART:20230101T000000
END:STANDARD
END:VTIMEZONE
BEGIN:VEVENT
DTSTART;TZID=Asia/Tokyo:20250104T190000
DTEND;TZID=Asia/Tokyo:20250104T233000
DTSTAMP:20260421T041558
CREATED:20241121T060131Z
LAST-MODIFIED:20241219T025840Z
UID:1930-1736017200-1736033400@oye-como-va.com
SUMMARY:新春オエコモThe Liveオープンマイク！
DESCRIPTION:２０２５①\n新春オエコモThe Liveオープンマイク！\n土曜日のオープンマイク！\nOpen１８：００　Start１９：００\n￥１５００　おつまみ＆１Drink付
URL:https://oye-como-va.com/event/%e6%96%b0%e6%98%a5%e3%82%aa%e3%82%a8%e3%82%b3%e3%83%a2the-live%e3%82%aa%e3%83%bc%e3%83%97%e3%83%b3%e3%83%9e%e3%82%a4%e3%82%af%ef%bc%81/
LOCATION:Oye como va\, 広島県尾道市久保１-５-１８
ATTACH;FMTTYPE=image/jpeg:https://oye-como-va.com/wp-content/uploads/2023/12/oyecomova.jpg
END:VEVENT
BEGIN:VEVENT
DTSTART;TZID=Asia/Tokyo:20250101T180000
DTEND;TZID=Asia/Tokyo:20250101T233000
DTSTAMP:20260421T041558
CREATED:20241121T055925Z
LAST-MODIFIED:20250101T003835Z
UID:1928-1735754400-1735774200@oye-como-va.com
SUMMARY:2025年　明けましておめでとうございます。
DESCRIPTION:明けましておめでとうございます。\n今年も宜しくお願いします。\n良い一年になりますように\nお正月休み１．２日\n３日から新春営業します。
URL:https://oye-como-va.com/event/%e4%bc%91%e6%97%a5%ef%bc%92%ef%bc%90%ef%bc%92%ef%bc%95%e3%80%801%e6%9c%881%e6%97%a5%ef%bc%88%e6%b0%b4%ef%bc%892%e6%97%a5%ef%bc%88%e6%9c%a8%ef%bc%89/
LOCATION:Oye como va\, 広島県尾道市久保１-５-１８
ATTACH;FMTTYPE=image/jpeg:https://oye-como-va.com/wp-content/uploads/2024/11/1000_F_457757594_zFiCi6Ide8bPrQVXn43UNPFBBRn7SCkS.jpg
END:VEVENT
BEGIN:VEVENT
DTSTART;TZID=Asia/Tokyo:20241231T180000
DTEND;TZID=Asia/Tokyo:20241231T233000
DTSTAMP:20260421T041558
CREATED:20241121T055707Z
LAST-MODIFIED:20241121T055707Z
UID:1926-1735668000-1735687800@oye-como-va.com
SUMMARY:休日31日（火）
DESCRIPTION:大晦日お休みします。
URL:https://oye-como-va.com/event/%e4%bc%91%e6%97%a531%e6%97%a5%ef%bc%88%e7%81%ab%ef%bc%89/
LOCATION:Oye como va\, 広島県尾道市久保１-５-１８
END:VEVENT
BEGIN:VEVENT
DTSTART;TZID=Asia/Tokyo:20241230T190000
DTEND;TZID=Asia/Tokyo:20241230T233000
DTSTAMP:20260421T041558
CREATED:20241110T012826Z
LAST-MODIFIED:20241110T012826Z
UID:1881-1735585200-1735601400@oye-como-va.com
SUMMARY:オエコモ忘年会オープンマイク！
DESCRIPTION:２０２４ラストオープンマイク！\n皆さんご参加おまちしてます。\nOpen１８：００\nStart１９：００\n￥１５００　１Drink付＋おつまみ
URL:https://oye-como-va.com/event/%e3%82%aa%e3%82%a8%e3%82%b3%e3%83%a2%e5%bf%98%e5%b9%b4%e4%bc%9a%e3%82%aa%e3%83%bc%e3%83%97%e3%83%b3%e3%83%9e%e3%82%a4%e3%82%af%ef%bc%81/
LOCATION:Oye como va\, 広島県尾道市久保１-５-１８
ATTACH;FMTTYPE=image/jpeg:https://oye-como-va.com/wp-content/uploads/2023/12/oyecomova.jpg
END:VEVENT
BEGIN:VEVENT
DTSTART;TZID=Asia/Tokyo:20241228T190000
DTEND;TZID=Asia/Tokyo:20241228T233000
DTSTAMP:20260421T041558
CREATED:20241121T055046Z
LAST-MODIFIED:20241121T055046Z
UID:1923-1735412400-1735428600@oye-como-va.com
SUMMARY:オエコモThe Live！
DESCRIPTION:土曜日のオープンマイク！\nOpen１８：００　Start１９：００\n￥１５００　おつまみ＆１Drink付
URL:https://oye-como-va.com/event/%e3%82%aa%e3%82%a8%e3%82%b3%e3%83%a2the-live%ef%bc%81/
LOCATION:Oye como va\, 広島県尾道市久保１-５-１８
ATTACH;FMTTYPE=image/jpeg:https://oye-como-va.com/wp-content/uploads/2023/12/oyecomova.jpg
END:VEVENT
BEGIN:VEVENT
DTSTART;TZID=Asia/Tokyo:20241226T190000
DTEND;TZID=Asia/Tokyo:20241226T233000
DTSTAMP:20260421T041558
CREATED:20241110T030534Z
LAST-MODIFIED:20241110T030534Z
UID:1902-1735239600-1735255800@oye-como-va.com
SUMMARY:モク☆アコDAYオープンマイク！
DESCRIPTION:木曜日オープンマイク！\nアコースティック弾き語り\nOpen１８：００　Start１９：００\n￥３００おつまみ＋ドリンクオーダー\n出演者別途５００円
URL:https://oye-como-va.com/event/%e3%83%a2%e3%82%af%e2%98%86%e3%82%a2%e3%82%b3day%e3%82%aa%e3%83%bc%e3%83%97%e3%83%b3%e3%83%9e%e3%82%a4%e3%82%af%ef%bc%81-28/
LOCATION:Oye como va\, 広島県尾道市久保１-５-１８
ATTACH;FMTTYPE=image/jpeg:https://oye-como-va.com/wp-content/uploads/2023/10/モクアコ.jpg
END:VEVENT
BEGIN:VEVENT
DTSTART;TZID=Asia/Tokyo:20241223T180000
DTEND;TZID=Asia/Tokyo:20241223T233000
DTSTAMP:20260421T041558
CREATED:20241110T031045Z
LAST-MODIFIED:20241110T031045Z
UID:1910-1734976800-1734996600@oye-como-va.com
SUMMARY:休日　23日（月）
DESCRIPTION:休日
URL:https://oye-como-va.com/event/%e4%bc%91%e6%97%a5%e3%80%8023%e6%97%a5%ef%bc%88%e6%9c%88%ef%bc%89/
LOCATION:Oye como va\, 広島県尾道市久保１-５-１８
END:VEVENT
BEGIN:VEVENT
DTSTART;TZID=Asia/Tokyo:20241222T163000
DTEND;TZID=Asia/Tokyo:20241222T190000
DTSTAMP:20260421T041558
CREATED:20241110T012114Z
LAST-MODIFIED:20241114T011210Z
UID:1879-1734885000-1734894000@oye-como-va.com
SUMMARY:GTOのワクアク、ドキドキ、音遊び♫ Vol\,56
DESCRIPTION:出演者\nGTO\nPTA community\n真エノ犬伝\n石澤ファンダメンタル\nOpen１６：３０\nStart１７：００\n￥２５００　１Drink付
URL:https://oye-como-va.com/event/live%e4%ba%88%e5%ae%9a%ef%bc%81-3/
ATTACH;FMTTYPE=image/bmp:https://oye-como-va.com/wp-content/uploads/2024/11/goto.bmp
END:VEVENT
BEGIN:VEVENT
DTSTART;TZID=Asia/Tokyo:20241221T193000
DTEND;TZID=Asia/Tokyo:20241221T220000
DTSTAMP:20260421T041558
CREATED:20241015T055352Z
LAST-MODIFIED:20241015T055352Z
UID:1851-1734809400-1734818400@oye-como-va.com
SUMMARY:SUNSET BOULEVARD
DESCRIPTION:エリック・クラプトン\nトリビュートバンド！\nサンセット ブールバード４７周年目\nOpen１９：００\nStart１９：３０\n￥２０００　要ドリンクオーダー
URL:https://oye-como-va.com/event/sunset-boulevard-2/
LOCATION:Oye como va\, 広島県尾道市久保１-５-１８
ATTACH;FMTTYPE=image/jpeg:https://oye-como-va.com/wp-content/uploads/2024/10/sunset12.jpg
END:VEVENT
BEGIN:VEVENT
DTSTART;TZID=Asia/Tokyo:20241219T190000
DTEND;TZID=Asia/Tokyo:20241219T233000
DTSTAMP:20260421T041558
CREATED:20241110T030435Z
LAST-MODIFIED:20241110T030435Z
UID:1900-1734634800-1734651000@oye-como-va.com
SUMMARY:モク☆アコDAYオープンマイク！
DESCRIPTION:木曜日オープンマイク！\nアコースティック弾き語り\nOpen１８：００　Start１９：００\n￥３００おつまみ＋ドリンクオーダー\n出演者別途５００円
URL:https://oye-como-va.com/event/%e3%83%a2%e3%82%af%e2%98%86%e3%82%a2%e3%82%b3day%e3%82%aa%e3%83%bc%e3%83%97%e3%83%b3%e3%83%9e%e3%82%a4%e3%82%af%ef%bc%81-27/
LOCATION:Oye como va\, 広島県尾道市久保１-５-１８
ATTACH;FMTTYPE=image/jpeg:https://oye-como-va.com/wp-content/uploads/2023/10/モクアコ.jpg
END:VEVENT
BEGIN:VEVENT
DTSTART;TZID=Asia/Tokyo:20241219T080000
DTEND;TZID=Asia/Tokyo:20241219T170000
DTSTAMP:20260421T041558
CREATED:20241219T030648Z
LAST-MODIFIED:20241219T030648Z
UID:1949-1734595200-1734627600@oye-como-va.com
SUMMARY:モク☆アコDAYオープンマイク！
DESCRIPTION:毎週木曜日 \n 
URL:https://oye-como-va.com/event/%e3%83%a2%e3%82%af%e2%98%86%e3%82%a2%e3%82%b3day%e3%82%aa%e3%83%bc%e3%83%97%e3%83%b3%e3%83%9e%e3%82%a4%e3%82%af%ef%bc%81-29/
END:VEVENT
BEGIN:VEVENT
DTSTART;TZID=Asia/Tokyo:20241218T193000
DTEND;TZID=Asia/Tokyo:20241218T213000
DTSTAMP:20260421T041558
CREATED:20241004T011011Z
LAST-MODIFIED:20241121T055356Z
UID:1833-1734550200-1734557400@oye-como-va.com
SUMMARY:namara 230 yanagisawa Blues Rock Show!
DESCRIPTION:柳沢二三男ギタリスト\n矢沢永吉、高橋真梨子、杉山清貴、\n財津和夫、西城秀樹、PUFFY・・・\n数多くのアーティストを\n支えたギタリスト。\n原点回帰、ギター少年のように\n今が最高に楽しいと言いきる\n柳沢二三男のロックでポップスな\nブルースLIVE。\n\nOpen１９：００\nStart１９：３０\n予約￥３５００\n当日￥４０００\nいずれも要ドリンクオーダー
URL:https://oye-como-va.com/event/namara-230-yanagisawa-blues-rock-show/
LOCATION:Oye como va\, 広島県尾道市久保１-５-１８
ATTACH;FMTTYPE=image/jpeg:https://oye-como-va.com/wp-content/uploads/2024/10/柳沢二三男.jpg
END:VEVENT
BEGIN:VEVENT
DTSTART;TZID=Asia/Tokyo:20241216T180000
DTEND;TZID=Asia/Tokyo:20241216T233000
DTSTAMP:20260421T041558
CREATED:20241110T030943Z
LAST-MODIFIED:20241110T030943Z
UID:1908-1734372000-1734391800@oye-como-va.com
SUMMARY:休日　16日（月）
DESCRIPTION:休日
URL:https://oye-como-va.com/event/%e4%bc%91%e6%97%a5%e3%80%8016%e6%97%a5%ef%bc%88%e6%9c%88%ef%bc%89/
LOCATION:Oye como va\, 広島県尾道市久保１-５-１８
END:VEVENT
BEGIN:VEVENT
DTSTART;TZID=Asia/Tokyo:20241215T180000
DTEND;TZID=Asia/Tokyo:20241215T200000
DTSTAMP:20260421T041558
CREATED:20241110T011935Z
LAST-MODIFIED:20241114T011002Z
UID:1877-1734285600-1734292800@oye-como-va.com
SUMMARY:年忘れ～今年もありがとう！♫DUO祭り♫
DESCRIPTION:出演者\nAmica、\nジュクモン、\nthe Venty、\nCandy Bery\nOpen１５：３０\nStart１６：００\n￥１５００　１Drink付
URL:https://oye-como-va.com/event/live%e4%ba%88%e5%ae%9a%ef%bc%81-2/
ATTACH;FMTTYPE=image/bmp:https://oye-como-va.com/wp-content/uploads/2024/11/miho2.bmp
END:VEVENT
BEGIN:VEVENT
DTSTART;TZID=Asia/Tokyo:20241214T183000
DTEND;TZID=Asia/Tokyo:20241214T223000
DTSTAMP:20260421T041558
CREATED:20241116T061343Z
LAST-MODIFIED:20241116T061343Z
UID:1919-1734201000-1734215400@oye-como-va.com
SUMMARY:Lemonede2
DESCRIPTION:映画上映\n呉市豊町大長ある古民家に集まったワケアリなひとたち。\nいろんな人が集まって、繰りなすハラモニア。\n私も出演させていただいています。\nミニライブもありますので是非観に\n来てください。\n￥２０００　要ドリンクオーダー\nOpen１７：３０\nStart１８：３０\n　２０：３０～出演者挨拶＆ミニライブ
URL:https://oye-como-va.com/event/lemonede2/
LOCATION:Oye como va\, 広島県尾道市久保１-５-１８
ATTACH;FMTTYPE=image/png:https://oye-como-va.com/wp-content/uploads/2024/11/レモネード２.png
END:VEVENT
BEGIN:VEVENT
DTSTART;TZID=Asia/Tokyo:20241213T200000
DTEND;TZID=Asia/Tokyo:20241213T220000
DTSTAMP:20260421T041558
CREATED:20241109T051116Z
LAST-MODIFIED:20241109T051116Z
UID:1872-1734120000-1734127200@oye-como-va.com
SUMMARY:毎月第2金曜日杉川JazzGroup＆Session
DESCRIPTION:杉川JazzGroup＆Session\n杉川伸二（Gt)　前原潔（Ba)　種元大三（Dr)\nOpen１８：００　Start２０：００\n￥１０００　要ドリンクオーダー
URL:https://oye-como-va.com/event/%e6%af%8e%e6%9c%88%e7%ac%ac2%e9%87%91%e6%9b%9c%e6%97%a5%e6%9d%89%e5%b7%9djazzgroup%ef%bc%86session-6/
LOCATION:Oye como va\, 広島県尾道市久保１-５-１８
ATTACH;FMTTYPE=image/jpeg:https://oye-como-va.com/wp-content/uploads/2024/07/杉川伸二.jpg
END:VEVENT
BEGIN:VEVENT
DTSTART;TZID=Asia/Tokyo:20241212T190000
DTEND;TZID=Asia/Tokyo:20241212T233000
DTSTAMP:20260421T041558
CREATED:20241110T030329Z
LAST-MODIFIED:20241110T030329Z
UID:1898-1734030000-1734046200@oye-como-va.com
SUMMARY:モク☆アコDAYオープンマイク！
DESCRIPTION:木曜日オープンマイク！\nアコースティック弾き語り\nOpen１８：００　Start１９：００\n￥３００おつまみ＋ドリンクオーダー\n出演者別途５００円
URL:https://oye-como-va.com/event/%e3%83%a2%e3%82%af%e2%98%86%e3%82%a2%e3%82%b3day%e3%82%aa%e3%83%bc%e3%83%97%e3%83%b3%e3%83%9e%e3%82%a4%e3%82%af%ef%bc%81-26/
LOCATION:Oye como va\, 広島県尾道市久保１-５-１８
ATTACH;FMTTYPE=image/jpeg:https://oye-como-va.com/wp-content/uploads/2023/10/モクアコ.jpg
END:VEVENT
BEGIN:VEVENT
DTSTART;TZID=Asia/Tokyo:20241208T180000
DTEND;TZID=Asia/Tokyo:20241208T233000
DTSTAMP:20260421T041558
CREATED:20241110T030841Z
LAST-MODIFIED:20241110T030841Z
UID:1906-1733680800-1733700600@oye-como-va.com
SUMMARY:休日　8日（日）
DESCRIPTION:休日
URL:https://oye-como-va.com/event/%e4%bc%91%e6%97%a5%e3%80%808%e6%97%a5%ef%bc%88%e6%97%a5%ef%bc%89/
LOCATION:Oye como va\, 広島県尾道市久保１-５-１８
END:VEVENT
BEGIN:VEVENT
DTSTART;TZID=Asia/Tokyo:20241207T193000
DTEND;TZID=Asia/Tokyo:20241207T220000
DTSTAMP:20260421T041558
CREATED:20241002T021617Z
LAST-MODIFIED:20241002T045814Z
UID:1822-1733599800-1733608800@oye-como-va.com
SUMMARY:じゃじゃん☆オールスターズ
DESCRIPTION:サザンオールスターズ　コピーバンド\nOpeningact：高橋克典（Vo.Gt)\nOpen１９：００　Start１９：３０\n￥１５００　１Drink付
URL:https://oye-como-va.com/event/%e3%81%98%e3%82%83%e3%81%98%e3%82%83%e3%82%93%e2%98%86%e3%82%aa%e3%83%bc%e3%83%ab%e3%82%b9%e3%82%bf%e3%83%bc/
LOCATION:Oye como va\, 広島県尾道市久保１-５-１８
ATTACH;FMTTYPE=image/bmp:https://oye-como-va.com/wp-content/uploads/2024/10/じゃじゃん.bmp
END:VEVENT
BEGIN:VEVENT
DTSTART;TZID=Asia/Tokyo:20241206T200000
DTEND;TZID=Asia/Tokyo:20241206T220000
DTSTAMP:20260421T041558
CREATED:20241015T010934Z
LAST-MODIFIED:20241022T004618Z
UID:1848-1733515200-1733522400@oye-como-va.com
SUMMARY:つねさん祭りParty LIVE
DESCRIPTION:つねさん祭り　Party LIVE\n出演者\nLinano Quattro\nRef:rain\nON☆PLAYER\nand more\nOpen１９：００　Start１９：３０\n￥１５００　１Drink付
URL:https://oye-como-va.com/event/%e3%81%a4%e3%81%ad%e3%81%95%e3%82%93%e7%a5%ad%e3%82%8aparty-live/
LOCATION:Oye como va\, 広島県尾道市久保１-５-１８
ATTACH;FMTTYPE=image/bmp:https://oye-como-va.com/wp-content/uploads/2024/10/常さん２.bmp
END:VEVENT
BEGIN:VEVENT
DTSTART;TZID=Asia/Tokyo:20241205T190000
DTEND;TZID=Asia/Tokyo:20241205T233000
DTSTAMP:20260421T041558
CREATED:20241110T030219Z
LAST-MODIFIED:20241110T030219Z
UID:1896-1733425200-1733441400@oye-como-va.com
SUMMARY:モク☆アコDAYオープンマイク！
DESCRIPTION:木曜日オープンマイク！\nアコースティック弾き語り\nOpen１８：００　Start１９：００\n￥３００おつまみ＋ドリンクオーダー\n出演者別途５００円
URL:https://oye-como-va.com/event/%e3%83%a2%e3%82%af%e2%98%86%e3%82%a2%e3%82%b3day%e3%82%aa%e3%83%bc%e3%83%97%e3%83%b3%e3%83%9e%e3%82%a4%e3%82%af%ef%bc%81-25/
LOCATION:Oye como va\, 広島県尾道市久保１-５-１８
ATTACH;FMTTYPE=image/jpeg:https://oye-como-va.com/wp-content/uploads/2023/10/モクアコ.jpg
END:VEVENT
BEGIN:VEVENT
DTSTART;TZID=Asia/Tokyo:20241201T180000
DTEND;TZID=Asia/Tokyo:20241201T233000
DTSTAMP:20260421T041558
CREATED:20241110T030729Z
LAST-MODIFIED:20241110T030729Z
UID:1904-1733076000-1733095800@oye-como-va.com
SUMMARY:休日　1日（日）
DESCRIPTION:休日
URL:https://oye-como-va.com/event/%e4%bc%91%e6%97%a5%e3%80%801%e6%97%a5%ef%bc%88%e6%97%a5%ef%bc%89/
LOCATION:Oye como va\, 広島県尾道市久保１-５-１８
END:VEVENT
BEGIN:VEVENT
DTSTART;TZID=Asia/Tokyo:20241130T183000
DTEND;TZID=Asia/Tokyo:20241130T233000
DTSTAMP:20260421T041558
CREATED:20240911T024740Z
LAST-MODIFIED:20241015T005843Z
UID:1777-1732991400-1733009400@oye-como-va.com
SUMMARY:KIRIN with MARRON EAST
DESCRIPTION:山下達郎コピーバンド！\n　　KIRIN\nWith \nMARRON EAST\n犬丸幸治（Vo\,Ag)＆小橋かおる（Pf\,Cho)\nOpen１８：３０\nStart１９：００\n￥１５００　１Drink付\n  \n  \n  \n 
URL:https://oye-como-va.com/event/kirin/
LOCATION:Oye como va\, 広島県尾道市久保１-５-１８
ATTACH;FMTTYPE=image/jpeg:https://oye-como-va.com/wp-content/uploads/2024/09/KIRIN.jpg
END:VEVENT
BEGIN:VEVENT
DTSTART;TZID=Asia/Tokyo:20241128T193000
DTEND;TZID=Asia/Tokyo:20241128T220000
DTSTAMP:20260421T041558
CREATED:20240828T011124Z
LAST-MODIFIED:20241002T022008Z
UID:1751-1732822200-1732831200@oye-como-va.com
SUMMARY:いわさき きょうこ20周年記念
DESCRIPTION:いわさききょうこ\n東京出身、シンガーソングライター\n70年代のフォーク、歌謡曲をカバーした初のカバーアルバム「歌は眠らない」を\nリリース。オリジナルアルバム「カッパが飛んだ空」等をリリース。\nWith　常富喜雄（Vo.Ag)（NEKO）\nOpeningact：KEIKO（Vo\,Ag)\nOpen１９：００　Start１９：３０\n￥３５００　要ドリンクオーダー
URL:https://oye-como-va.com/event/%e3%81%84%e3%82%8f%e3%81%95%e3%81%8d-%e3%81%8d%e3%82%87%e3%81%86%e3%81%9320%e5%91%a8%e5%b9%b4%e8%a8%98%e5%bf%b5/
LOCATION:Oye como va\, 広島県尾道市久保１-５-１８
ATTACH;FMTTYPE=image/bmp:https://oye-como-va.com/wp-content/uploads/2024/08/いわさき２.bmp
END:VEVENT
BEGIN:VEVENT
DTSTART;TZID=Asia/Tokyo:20241127T193000
DTEND;TZID=Asia/Tokyo:20241127T213000
DTSTAMP:20260421T041558
CREATED:20241008T011353Z
LAST-MODIFIED:20241023T031111Z
UID:1836-1732735800-1732743000@oye-como-va.com
SUMMARY:田渕公明　Live
DESCRIPTION:アコースティック\n田渕公明（Vo.Ag)\n奥田哲之（Ba)\n片岡みか（Vo)\nOpen１９：００\nStart１９：３０\n￥３０００\n要ドリンクオーダー
URL:https://oye-como-va.com/event/%e7%94%b0%e6%b8%95%e5%85%ac%e6%98%8e%e3%80%80live/
LOCATION:Oye como va\, 広島県尾道市久保１-５-１８
ATTACH;FMTTYPE=image/bmp:https://oye-como-va.com/wp-content/uploads/2024/10/田渕公明2024.bmp
END:VEVENT
BEGIN:VEVENT
DTSTART;TZID=Asia/Tokyo:20241124T180000
DTEND;TZID=Asia/Tokyo:20241124T233000
DTSTAMP:20260421T041558
CREATED:20241110T025141Z
LAST-MODIFIED:20241110T025141Z
UID:1890-1732471200-1732491000@oye-como-va.com
SUMMARY:休日　24日
DESCRIPTION:休日
URL:https://oye-como-va.com/event/%e4%bc%91%e6%97%a5%e3%80%8024%e6%97%a5/
LOCATION:Oye como va\, 広島県尾道市久保１-５-１８
END:VEVENT
BEGIN:VEVENT
DTSTART;TZID=Asia/Tokyo:20241123T190000
DTEND;TZID=Asia/Tokyo:20241123T233000
DTSTAMP:20260421T041558
CREATED:20240927T023700Z
LAST-MODIFIED:20240927T024301Z
UID:1815-1732388400-1732404600@oye-como-va.com
SUMMARY:OJCOMOな夕べ
DESCRIPTION:秋というには深すぎる\n冬というには早すぎる\nそんな夕暮れの街中に\n僕たちのメロディーが流れる\nご一緒に楽しみませんか\nOJCOMOな夕べ\n出演者多数\nOpen１８：００　Start１９：００\n￥１５００　１Drink付
URL:https://oye-como-va.com/event/ojcomo%e3%81%aa%e5%a4%95%e3%81%b9/
LOCATION:Oye como va\, 広島県尾道市久保１-５-１８
ATTACH;FMTTYPE=image/jpeg:https://oye-como-va.com/wp-content/uploads/2024/09/樋口雅彦.jpg
END:VEVENT
BEGIN:VEVENT
DTSTART;TZID=Asia/Tokyo:20241122T200000
DTEND;TZID=Asia/Tokyo:20241122T220000
DTSTAMP:20260421T041558
CREATED:20241002T022757Z
LAST-MODIFIED:20241022T005115Z
UID:1827-1732305600-1732312800@oye-como-va.com
SUMMARY:樋口利歌カルテット
DESCRIPTION:樋口利歌（Vio)\n前田順三（Ba)\n森川敏行（Gt)\n岩本利之（Dr)\nOpen１９：３０\nStart２０：００～\n￥３０００　要ドリンクオーダー
URL:https://oye-como-va.com/event/%e6%a8%8b%e5%8f%a3%e5%88%a9%e6%ad%8c%e3%82%ab%e3%83%ab%e3%83%86%e3%83%83%e3%83%88/
LOCATION:Oye como va\, 広島県尾道市久保１-５-１８
ATTACH;FMTTYPE=image/bmp:https://oye-como-va.com/wp-content/uploads/2024/10/りかカルテット.bmp
END:VEVENT
BEGIN:VEVENT
DTSTART;TZID=Asia/Tokyo:20241121T190000
DTEND;TZID=Asia/Tokyo:20241121T233000
DTSTAMP:20260421T041558
CREATED:20241110T030023Z
LAST-MODIFIED:20241110T030023Z
UID:1894-1732215600-1732231800@oye-como-va.com
SUMMARY:モク☆アコDAYオープンマイク！
DESCRIPTION:木曜日オープンマイク！\nアコースティック弾き語り\nOpen１８：００　Start１９：００\n￥３００おつまみ＋ドリンクオーダー\n出演者別途５００円
URL:https://oye-como-va.com/event/%e3%83%a2%e3%82%af%e2%98%86%e3%82%a2%e3%82%b3day%e3%82%aa%e3%83%bc%e3%83%97%e3%83%b3%e3%83%9e%e3%82%a4%e3%82%af%ef%bc%81-24/
LOCATION:Oye como va\, 広島県尾道市久保１-５-１８
ATTACH;FMTTYPE=image/jpeg:https://oye-como-va.com/wp-content/uploads/2023/10/モクアコ.jpg
END:VEVENT
BEGIN:VEVENT
DTSTART;TZID=Asia/Tokyo:20241119T193000
DTEND;TZID=Asia/Tokyo:20241119T220000
DTSTAMP:20260421T041558
CREATED:20240818T021932Z
LAST-MODIFIED:20241029T022206Z
UID:1737-1732044600-1732053600@oye-como-va.com
SUMMARY:『是方博邦 秋のSolo Guitar Tour 2024』
DESCRIPTION:是方博邦（Gt)\n大阪生まれ、神戸育ち。\n1975年大村憲司に誘われ上京、村上（ポン太）秀一、小原礼らと『カミーノ』に参加し、\n都内のライブハウスで活動。井上陽水、小椋圭らのレコーディングなどに参加。\n1977年『桑名正博＆ティアードロップス』に参加。セクシャルバイ\nオレットNo１、という楽曲でベストテン１位になる。\n1979年『高中正義グループ』に参加。サンフランシスコ、ロスアンジェルス公演に同行。\n高中グループとサンタナグループのジョイントコンサートで全国ツアー。\nOpeningact：Linan Quattro(インストバンド）\nOpen１９：００　Start１９：３０\n前売り￥３５００　当日￥４０００　いずれも要ドリンクオーダー
URL:https://oye-como-va.com/event/%e3%80%8e%e6%98%af%e6%96%b9%e5%8d%9a%e9%82%a6-%e7%a7%8b%e3%81%aesolo-guitar-tour-2024%e3%80%8f/
LOCATION:Oye como va\, 広島県尾道市久保１-５-１８
ATTACH;FMTTYPE=image/jpeg:https://oye-como-va.com/wp-content/uploads/2024/08/是方博邦.jpg
END:VEVENT
END:VCALENDAR